BEGIN:VCALENDAR
VERSION:2.0
PRODID:-//STUPA der Hochschule Reutlingen - ECPv6.15.20//NONSGML v1.0//EN
CALSCALE:GREGORIAN
METHOD:PUBLISH
X-ORIGINAL-URL:https://stupa.reutlingen.university
X-WR-CALDESC:Veranstaltungen für STUPA der Hochschule Reutlingen
REFRESH-INTERVAL;VALUE=DURATION:PT1H
X-Robots-Tag:noindex
X-PUBLISHED-TTL:PT1H
BEGIN:VTIMEZONE
TZID:Europe/Berlin
BEGIN:DAYLIGHT
TZOFFSETFROM:+0100
TZOFFSETTO:+0200
TZNAME:CEST
DTSTART:20240331T010000
END:DAYLIGHT
BEGIN:STANDARD
TZOFFSETFROM:+0200
TZOFFSETTO:+0100
TZNAME:CET
DTSTART:20241027T010000
END:STANDARD
BEGIN:DAYLIGHT
TZOFFSETFROM:+0100
TZOFFSETTO:+0200
TZNAME:CEST
DTSTART:20250330T010000
END:DAYLIGHT
BEGIN:STANDARD
TZOFFSETFROM:+0200
TZOFFSETTO:+0100
TZNAME:CET
DTSTART:20251026T010000
END:STANDARD
BEGIN:DAYLIGHT
TZOFFSETFROM:+0100
TZOFFSETTO:+0200
TZNAME:CEST
DTSTART:20260329T010000
END:DAYLIGHT
BEGIN:STANDARD
TZOFFSETFROM:+0200
TZOFFSETTO:+0100
TZNAME:CET
DTSTART:20261025T010000
END:STANDARD
END:VTIMEZONE
BEGIN:VEVENT
DTSTART;TZID=Europe/Berlin:20251113T220000
DTEND;TZID=Europe/Berlin:20251114T040000
DTSTAMP:20260419T223138
CREATED:20251109T144530Z
LAST-MODIFIED:20251109T144802Z
UID:1998-1763071200-1763092800@stupa.reutlingen.university
SUMMARY:Steal the night- a Louvre affair ✨️✨️
DESCRIPTION:Eine verführerisch gefährliche Mottoparty am 13.11. ab 22:00 Uhr im Schwarzen Schaf\, Tübingen! \nBei uns heißt es:\nSei der Räuber oder wertvolle Diamant!\nEuch erwartet eine Nacht voller guter Musik\, Partystimmung und geile Outfits! \nEinlass: 22:00 Uhr \nVorverkauf 6 € ab dem 03.11. auf dem Campus der Hochschule Reutlingen. \nAbendkasse 8 € von 22:00 bis 00:00 Uhr \nOder Online: https://www.eventim.de/event/steal-the-night-a-louvre-affaire-schwarzes-schaf-20892417/ \n– also früh sein lohnt\, um seinen Platz zu sichern und spart dazu noch Geld! \nEgal ob als ikonischen Räuber der ins Louvre einbricht oder als wertvollen\, glamourösen Schatz. Lasst eurer Kreativität freien Lauf und beeindruckt alle um euch herum 😉 🥷👑\n(Natürlich ist verkleiden keine Pflicht und ihr könnt gerne so kommen wie ihr euch wohlfühlt) \nWir freuen uns auf eine unvergessliche Nacht mit euch allen! 🫶 Markiert euch den 13.11 in euren Kalender\, schnappt euch eure Freunde*innen und zeigt\, was ihr drauf habt! \nEure Fachschaft Tex der Hochschule Reutlingen 🧶🪡✨️
URL:https://stupa.reutlingen.university/event/steal-the-night-a-louvre-affair-%e2%9c%a8%ef%b8%8f%e2%9c%a8%ef%b8%8f/
LOCATION:Schwarzen Schaf\, Pfleghofstraße 10\, Tübingen\, Baden-Württemberg\, 72070
CATEGORIES:Fachschaft,Get-together,Party
ATTACH;FMTTYPE=image/png:https://stupa.reutlingen.university/wp-content/uploads/2025/11/Screenshot-2025-11-09-154319.png
END:VEVENT
END:VCALENDAR