BEGIN:VCALENDAR
VERSION:2.0
PRODID:-//STUPA der Hochschule Reutlingen - ECPv6.15.20//NONSGML v1.0//EN
CALSCALE:GREGORIAN
METHOD:PUBLISH
X-WR-CALNAME:STUPA der Hochschule Reutlingen
X-ORIGINAL-URL:https://stupa.reutlingen.university
X-WR-CALDESC:Veranstaltungen für STUPA der Hochschule Reutlingen
REFRESH-INTERVAL;VALUE=DURATION:PT1H
X-Robots-Tag:noindex
X-PUBLISHED-TTL:PT1H
BEGIN:VTIMEZONE
TZID:Europe/Berlin
BEGIN:DAYLIGHT
TZOFFSETFROM:+0100
TZOFFSETTO:+0200
TZNAME:CEST
DTSTART:20250330T010000
END:DAYLIGHT
BEGIN:STANDARD
TZOFFSETFROM:+0200
TZOFFSETTO:+0100
TZNAME:CET
DTSTART:20251026T010000
END:STANDARD
BEGIN:DAYLIGHT
TZOFFSETFROM:+0100
TZOFFSETTO:+0200
TZNAME:CEST
DTSTART:20260329T010000
END:DAYLIGHT
BEGIN:STANDARD
TZOFFSETFROM:+0200
TZOFFSETTO:+0100
TZNAME:CET
DTSTART:20261025T010000
END:STANDARD
BEGIN:DAYLIGHT
TZOFFSETFROM:+0100
TZOFFSETTO:+0200
TZNAME:CEST
DTSTART:20270328T010000
END:DAYLIGHT
BEGIN:STANDARD
TZOFFSETFROM:+0200
TZOFFSETTO:+0100
TZNAME:CET
DTSTART:20271031T010000
END:STANDARD
END:VTIMEZONE
BEGIN:VEVENT
DTSTART;TZID=Europe/Berlin:20260423T160000
DTEND;TZID=Europe/Berlin:20260423T193000
DTSTAMP:20260423T120423
CREATED:20260402T144602Z
LAST-MODIFIED:20260402T144602Z
UID:2437-1776960000-1776972600@stupa.reutlingen.university
SUMMARY:First Reutlingen University National Model United Nations Conference
DESCRIPTION:We have exciting news about a new opportunity for NMUN! This year we will be hosting our very first Reutlingen University National Model United Nations Conference\, taking place right here in Reutlingen on the 23rd of April 2026. As a brief introduction: NMUN is an international organization that allows students from across the world to participate in a debate conference on global political issues\, and is the most internationally recognized political debate competition and conference of its kind. Within this conference here in Reutlingen\, you will have the opportunity to step into the shoes of diplomats\, representing nations and debating pressing global issues.\n\nThis opportunity is open to students of all faculties who wish to gain a first insight into the proceedings of the UN through a friendly 3 hour mock debate conference. It serves as an excellent introduction to international debate for those considering pursuing debating in the future\, or who have an interest in joining NMUN for this international competition down the line.\n\nWhen? April 23rd\, 16:00 – 19:30\nWhere? Texoversum\, Ebene 2.5\, Raum 30\n\nRegistrations open on April 1st via the link below and close on April 13th. Participation is on a first come\, first served basis and no prior experience is required.\n\nLink registration: https://docs.google.com/forms/d/e/1FAIpQLScEtXSrmK3qDZWo8-0WULTrGfOR3rMSnNJco89N6_EjQwfgQg/viewform?pli=1\n\nFollow us on Instagram to stay up to date: @nmun.reutlingen\, or reach out via email with any questions: leonard.krause@student.reutlingen-university.de\n\nSee you there!
URL:https://stupa.reutlingen.university/event/first-reutlingen-university-national-model-united-nations-conference/
LOCATION:Texoversum\, Building 30\, Altenburgstraße 150\, reutlingen\, 72762
CATEGORIES:Sitzung
END:VEVENT
BEGIN:VEVENT
DTSTART;TZID=Europe/Berlin:20260423T171500
DTEND;TZID=Europe/Berlin:20260423T190000
DTSTAMP:20260423T120423
CREATED:20260306T211140Z
LAST-MODIFIED:20260306T211146Z
UID:2352-1776964500-1776970800@stupa.reutlingen.university
SUMMARY:oikos Sustainable Finance Workshop
DESCRIPTION:Nachhaltig investieren – wie wirkt dein Geld wirklich? \nWas passiert eigentlich mit deinem Geld\, wenn es auf dem Konto liegt oder in einen Fonds fließt? Wie erkennst du\, ob du gerade auf Greenwashing hereinfällst? Und warum beeinflussen Finanzsituationen Umwelt stärker als vielen bewusst ist? \nWann? 23.04.26\, 17:15 – 19:00 Uhr\nWo? Raum 17-U14 \nAnmeldung: bei studierenplus unter Ethik und Nachhaltigkeit
URL:https://stupa.reutlingen.university/event/sustainable-finance-workshop/
LOCATION:Raum 17-U14\, Alteburgstraße 150\, Reutlingen\, Baden-Würrtemberg\, 72762\, Germany
CATEGORIES:oikos,Workshop
ORGANIZER;CN="oikos":MAILTO:president@reutlingen.oikos-international.org
END:VEVENT
END:VCALENDAR